BEGIN:VCALENDAR
VERSION:2.0
PRODID:icalendar-ruby
CALSCALE:GREGORIAN
METHOD:PUBLISH
BEGIN:VEVENT
DTSTAMP:20260420T134043Z
UID:51-564647@hopechristianchurch.org
DTSTART:20260503T140000Z
DTEND:20260503T150000Z
CLASS:PUBLIC
CREATED:20260417T120043
DESCRIPTION:Do you want to learn more about baptism? Are you ready to be ba
 ptized? Come and learn more about baptism. You are not obligated to be bap
 tized after the class\, but all who want to be baptized should attend.\nRS
 VP: Todd@HopeChristianChurch.org
LAST-MODIFIED:20260417T120043
LOCATION:
SUMMARY:Baptism Class
URL;VALUE=URI:https://hopechristianchurch.org/events/baptism-class/2026-05-
 03
ATTACH;FILENAME=Screenshot 2026-04-17 at 12.00.21 PM.png;FMTTYPE=image/pn
 g:https://dq5pwpg1q8ru0.cloudfront.net/2026/04/17/16/00/43/6edad9a2-b986-4
 ffa-9b55-0fc371d4d902/Screenshot%202026-04-17%20at%2012.00.21%E2%80%AFPM.p
 ng
END:VEVENT
END:VCALENDAR
