BEGIN:VCALENDAR
VERSION:2.0
PRODID:icalendar-ruby
CALSCALE:GREGORIAN
METHOD:PUBLISH
BEGIN:VEVENT
DTSTAMP:20260421T234622Z
UID:8-577533@hopechristianchurch.org
DTSTART:20261018T140000Z
DTEND:20261018T150000Z
CLASS:PUBLIC
CREATED:20260421T182517
DESCRIPTION:Join us each Sunday morning for Discipleship classes for all ag
 es.
LAST-MODIFIED:20260421T182517
LOCATION:
SUMMARY:Discipleship Classes for all ages
URL;VALUE=URI:https://hopechristianchurch.org/events/discipleship-classes-f
 or-all-ages/2026-10-18
ATTACH;FILENAME=Screenshot-2024-09-12-at-8.14.46%E2%80%AFPM.png;FMTTYPE=ima
 ge/png:https://dq5pwpg1q8ru0.cloudfront.net/2024/09/13/00/15/40/b0fa925c-b
 25a-4300-ba0f-180d768f72b1/Screenshot-2024-09-12-at-8.14.46%25E2%2580%25AF
 PM.png
END:VEVENT
END:VCALENDAR
