BEGIN:VCALENDAR
VERSION:2.0
PRODID:icalendar-ruby
CALSCALE:GREGORIAN
METHOD:PUBLISH
BEGIN:VEVENT
DTSTAMP:20260422T111700Z
UID:33-578432@hopechristianchurch.org
DTSTART:20261011T151500Z
DTEND:20261011T161500Z
CLASS:PUBLIC
CREATED:20260421T210404
DESCRIPTION:Worship Service
LAST-MODIFIED:20260421T210404
LOCATION:Hope Christian Church
SUMMARY:Worship Service
URL;VALUE=URI:https://hopechristianchurch.org/events/worship-service--32/20
 26-10-11
ATTACH;FILENAME=Screenshot-2024-10-16-at-4.28.31%E2%80%AFPM.png;FMTTYPE=ima
 ge/png:https://dq5pwpg1q8ru0.cloudfront.net/2025/12/10/18/11/45/8817428d-2
 582-4517-975d-17b3698fcd13/Screenshot-2024-10-16-at-4.28.31%25E2%2580%25AF
 PM.png
END:VEVENT
END:VCALENDAR
